BEGIN:VCALENDAR
VERSION:2.0
PRODID:-//ACH Child and Family Services - ECPv6.15.17.1//NONSGML v1.0//EN
CALSCALE:GREGORIAN
METHOD:PUBLISH
X-WR-CALNAME:ACH Child and Family Services
X-ORIGINAL-URL:https://achservices.org
X-WR-CALDESC:Events for ACH Child and Family Services
REFRESH-INTERVAL;VALUE=DURATION:PT1H
X-Robots-Tag:noindex
X-PUBLISHED-TTL:PT1H
BEGIN:VTIMEZONE
TZID:America/Chicago
BEGIN:DAYLIGHT
TZOFFSETFROM:-0600
TZOFFSETTO:-0500
TZNAME:CDT
DTSTART:20250309T080000
END:DAYLIGHT
BEGIN:STANDARD
TZOFFSETFROM:-0500
TZOFFSETTO:-0600
TZNAME:CST
DTSTART:20251102T070000
END:STANDARD
BEGIN:DAYLIGHT
TZOFFSETFROM:-0600
TZOFFSETTO:-0500
TZNAME:CDT
DTSTART:20260308T080000
END:DAYLIGHT
BEGIN:STANDARD
TZOFFSETFROM:-0500
TZOFFSETTO:-0600
TZNAME:CST
DTSTART:20261101T070000
END:STANDARD
BEGIN:DAYLIGHT
TZOFFSETFROM:-0600
TZOFFSETTO:-0500
TZNAME:CDT
DTSTART:20270314T080000
END:DAYLIGHT
BEGIN:STANDARD
TZOFFSETFROM:-0500
TZOFFSETTO:-0600
TZNAME:CST
DTSTART:20271107T070000
END:STANDARD
END:VTIMEZONE
BEGIN:VEVENT
DTSTART;TZID=America/Chicago:20260328T090000
DTEND;TZID=America/Chicago:20260328T100000
DTSTAMP:20260423T100117
CREATED:20251208T191527Z
LAST-MODIFIED:20251208T191527Z
UID:32137-1774688400-1774692000@achservices.org
SUMMARY:Risk is Real Accelerated Intake
DESCRIPTION:Real Help for Real Life presents: Risk is Real (Intake)\nThis class is for youth who may be first offenders. This class will help youth understand the repercussions of life choices and provide them the skills necessary to avoid behavior that may put future success at risk. \n\n\n                \n                        \n                            RHRL Skill Builder Registration\n                             \n							"*" indicates required fields \n                        \n        \n        	Step 1 of 2\n        	 \n            \n                50%\n            \n                        \n					If offered\, what class/day time works best for your youth to attend?Camp Thrive: Intake: June 24\, 2026 at 5:30 p.m. | Camps: July 8 - 10\, 2026 from 9 a.m. - 12 p.m.Camp Rise: Intake: July 28\, 2026 at 5:30 p.m. | Camps: August 5 - 7\, 2026 from 9 a.m. - 12 p.m.Risk is Real Accelerated Intake: July 25\, 2026 at 9 a.m. | Groups: August 1\, 2026 from 9 a.m. - 12 p.m.Resource NavigationYouth InformationYouth Name*\n                            \n                            \n                                                    \n                                                    First\n                                                \n                            \n                            \n                                                    \n                                                    Last\n                                                \n                            \n                        Youth Date of Birth*\n                            \n                            MM slash DD slash YYYY\n                        \n                        \n                    \n                    \n                          \n                    \n                \n                \n                    \n                        Parent/Guardian InformationParent/Guardian Name*\n                            \n                            \n                                                    \n                                                    First\n                                                \n                            \n                            \n                                                    \n                                                    Last\n                                                \n                            \n                        Email Address*\n                            \n                        Phone*CAPTCHA
URL:https://achservices.org/events/risk-is-real-accelerated-intake/
LOCATION:ACH Wichita Campus\, 3712 Wichita Street\, Fort Worth\, TX\, 76119\, United States
CATEGORIES:RHRL Skill Builder
END:VEVENT
END:VCALENDAR