BEGIN:VCALENDAR
VERSION:2.0
PRODID:-//ACH Child and Family Services - ECPv6.15.17.1//NONSGML v1.0//EN
CALSCALE:GREGORIAN
METHOD:PUBLISH
X-WR-CALNAME:ACH Child and Family Services
X-ORIGINAL-URL:https://achservices.org
X-WR-CALDESC:Events for ACH Child and Family Services
REFRESH-INTERVAL;VALUE=DURATION:PT1H
X-Robots-Tag:noindex
X-PUBLISHED-TTL:PT1H
BEGIN:VTIMEZONE
TZID:America/Chicago
BEGIN:DAYLIGHT
TZOFFSETFROM:-0600
TZOFFSETTO:-0500
TZNAME:CDT
DTSTART:20210314T080000
END:DAYLIGHT
BEGIN:STANDARD
TZOFFSETFROM:-0500
TZOFFSETTO:-0600
TZNAME:CST
DTSTART:20211107T070000
END:STANDARD
BEGIN:DAYLIGHT
TZOFFSETFROM:-0600
TZOFFSETTO:-0500
TZNAME:CDT
DTSTART:20220313T080000
END:DAYLIGHT
BEGIN:STANDARD
TZOFFSETFROM:-0500
TZOFFSETTO:-0600
TZNAME:CST
DTSTART:20221106T070000
END:STANDARD
BEGIN:DAYLIGHT
TZOFFSETFROM:-0600
TZOFFSETTO:-0500
TZNAME:CDT
DTSTART:20230312T080000
END:DAYLIGHT
BEGIN:STANDARD
TZOFFSETFROM:-0500
TZOFFSETTO:-0600
TZNAME:CST
DTSTART:20231105T070000
END:STANDARD
BEGIN:DAYLIGHT
TZOFFSETFROM:-0600
TZOFFSETTO:-0500
TZNAME:CDT
DTSTART:20240310T080000
END:DAYLIGHT
BEGIN:STANDARD
TZOFFSETFROM:-0500
TZOFFSETTO:-0600
TZNAME:CST
DTSTART:20241103T070000
END:STANDARD
BEGIN:DAYLIGHT
TZOFFSETFROM:-0600
TZOFFSETTO:-0500
TZNAME:CDT
DTSTART:20250309T080000
END:DAYLIGHT
BEGIN:STANDARD
TZOFFSETFROM:-0500
TZOFFSETTO:-0600
TZNAME:CST
DTSTART:20251102T070000
END:STANDARD
END:VTIMEZONE
BEGIN:VEVENT
DTSTART;TZID=America/Chicago:20241023T180000
DTEND;TZID=America/Chicago:20241023T193000
DTSTAMP:20260423T192514
CREATED:20240909T160453Z
LAST-MODIFIED:20240909T160453Z
UID:26685-1729706400-1729711800@achservices.org
SUMMARY:Women's Auxiliary: {No} Sew Much Fun!
DESCRIPTION:Come make no-sew\, tie blankets for kids in our residential programs! Hosted by Women’s Auxiliary.
URL:https://achservices.org/events/womens-auxiliary-no-sew-much-fun/
LOCATION:ACH Wichita Campus\, 3712 Wichita Street\, Fort Worth\, TX\, 76119\, United States
CATEGORIES:Volunteer Opportunities
ORGANIZER;CN="Women's Auxiliary":MAILTO:Sarah.Bramlett@ACHservices.org
END:VEVENT
BEGIN:VEVENT
DTSTART;TZID=America/Chicago:20230131T193000
DTEND;TZID=America/Chicago:20230131T203000
DTSTAMP:20260423T192514
CREATED:20230119T142112Z
LAST-MODIFIED:20230119T142614Z
UID:20465-1675193400-1675197000@achservices.org
SUMMARY:Virtual Volunteer Mentoring Information Session
DESCRIPTION:Be a part of a network of supportive volunteer mentors to help young adults achieve success and self-sufficiency. Learn more about how becoming a mentor uses their time and talents to establish a relationship that promotes self-confidence and self-sufficiency for those young adults aging out of the foster care system. Register today by emailing Kate Faggella-Luby at Kate.Faggella-Luby@ACHservices.org. \nJan 2023 Mentoring Info Session
URL:https://achservices.org/events/virtual-volunteer-mentoring-information-session/
LOCATION:Zoom
CATEGORIES:Volunteer Opportunities
ATTACH;FMTTYPE=image/jpeg:https://achservices.org/wp-content/uploads/2023/01/Copy-of-Info-Session-LIFE-Volunteer-Mentoring-front-and-back-e1674138030146.jpg
ORGANIZER;CN="Kate Faggella-Luby":MAILTO:Kate.Faggella-Luby@achservices.org
END:VEVENT
BEGIN:VEVENT
DTSTART;TZID=America/Chicago:20230131T120000
DTEND;TZID=America/Chicago:20230131T130000
DTSTAMP:20260423T192514
CREATED:20230119T142537Z
LAST-MODIFIED:20230119T142537Z
UID:20471-1675166400-1675170000@achservices.org
SUMMARY:Virtual Volunteer Mentoring Information Session
DESCRIPTION:Be a part of a network of supportive volunteer mentors to help young adults achieve success and self-sufficiency. Learn more about how becoming a mentor uses their time and talents to establish a relationship that promotes self-confidence and self-sufficiency for those young adults aging out of the foster care system. Register today by emailing Kate Faggella-Luby at Kate.Faggella-Luby@ACHservices.org. \nJan 2023 Mentoring Info Session
URL:https://achservices.org/events/virtual-volunteer-mentoring-information-session-2/
LOCATION:Zoom
CATEGORIES:Volunteer Opportunities
ATTACH;FMTTYPE=image/jpeg:https://achservices.org/wp-content/uploads/2023/01/Copy-of-Info-Session-LIFE-Volunteer-Mentoring-front-and-back-e1674138030146.jpg
ORGANIZER;CN="Kate Faggella-Luby":MAILTO:Kate.Faggella-Luby@achservices.org
END:VEVENT
BEGIN:VEVENT
DTSTART;TZID=America/Chicago:20221117T180000
DTEND;TZID=America/Chicago:20221117T200000
DTSTAMP:20260423T192514
CREATED:20220525T205813Z
LAST-MODIFIED:20220525T205813Z
UID:15853-1668708000-1668715200@achservices.org
SUMMARY:I’m STUFFED! Thanksgiving Bag Stuffing\, decorating\, and organizing
DESCRIPTION:Help us organize Thanksgiving Bags for programs.
URL:https://achservices.org/events/im-stuffed-thanksgiving-bag-stuffing-decorating-and-organizing-2022-11-17/
LOCATION:ACH Wichita Campus\, 3712 Wichita Street\, Fort Worth\, TX\, 76119\, United States
CATEGORIES:Volunteer Opportunities
ATTACH;FMTTYPE=image/jpeg:https://achservices.org/wp-content/uploads/2022/05/Bag-give-away-edited-e1653512283535.jpg
END:VEVENT
BEGIN:VEVENT
DTSTART;TZID=America/Chicago:20221022T090000
DTEND;TZID=America/Chicago:20221022T140000
DTSTAMP:20260423T192514
CREATED:20220525T205340Z
LAST-MODIFIED:20220525T205340Z
UID:15850-1666429200-1666447200@achservices.org
SUMMARY:Fall Campus Clean Up
DESCRIPTION:We have 2 different Campus Clean up Opportunities! We will be at our Wedgwood and Wichita Campuses!  (Please indicate Campus on volunteer form)
URL:https://achservices.org/events/fall-campus-clean-up-2022-10-22/
LOCATION:ACH Wichita Campus\, 3712 Wichita Street\, Fort Worth\, TX\, 76119\, United States
CATEGORIES:Volunteer Opportunities
ATTACH;FMTTYPE=image/jpeg:https://achservices.org/wp-content/uploads/2022/05/20220326_094203-01-e1653511999685.jpg
END:VEVENT
BEGIN:VEVENT
DTSTART;TZID=America/Chicago:20220929T183000
DTEND;TZID=America/Chicago:20220929T200000
DTSTAMP:20260423T192514
CREATED:20220525T204810Z
LAST-MODIFIED:20220525T204810Z
UID:15847-1664476200-1664481600@achservices.org
SUMMARY:Clean up Clean up Everybody Everywhere!
DESCRIPTION:Help us organize Hygiene items for programs.
URL:https://achservices.org/events/clean-up-clean-up-everybody-everywhere-2022-9-29/
LOCATION:ACH Wichita Campus\, 3712 Wichita Street\, Fort Worth\, TX\, 76119\, United States
CATEGORIES:Volunteer Opportunities
ATTACH;FMTTYPE=image/jpeg:https://achservices.org/wp-content/uploads/2022/05/Volunteers-organizing.jpg
END:VEVENT
BEGIN:VEVENT
DTSTART;TZID=America/Chicago:20220728T180000
DTEND;TZID=America/Chicago:20220728T200000
DTSTAMP:20260423T192514
CREATED:20220525T204339Z
LAST-MODIFIED:20220525T204920Z
UID:15844-1659031200-1659038400@achservices.org
SUMMARY:Back to School and Looking Cool!
DESCRIPTION:Help us organize School supplies for the 2022/2023 School Year.
URL:https://achservices.org/events/back-to-school-and-looking-cool-2022-7-28/
LOCATION:ACH Wichita Campus\, 3712 Wichita Street\, Fort Worth\, TX\, 76119\, United States
CATEGORIES:Volunteer Opportunities
ATTACH;FMTTYPE=image/jpeg:https://achservices.org/wp-content/uploads/2022/05/Back-to-School-Volunteers-e1653511453344.jpg
END:VEVENT
BEGIN:VEVENT
DTSTART;TZID=America/Chicago:20220630T183000
DTEND;TZID=America/Chicago:20220630T200000
DTSTAMP:20260423T192514
CREATED:20220525T203632Z
LAST-MODIFIED:20220525T204113Z
UID:15841-1656613800-1656619200@achservices.org
SUMMARY:Making Christmas\, Making Christmas
DESCRIPTION:Help us organize Teen Christmas gift items to prepare for our HUGE undertaking for Christmas.
URL:https://achservices.org/events/making-christmas-making-christmas-2022-6-30/
LOCATION:ACH Wichita Campus\, 3712 Wichita Street\, Fort Worth\, TX\, 76119\, United States
CATEGORIES:Volunteer Opportunities
ATTACH;FMTTYPE=image/jpeg:https://achservices.org/wp-content/uploads/2022/05/GM-Financial-2021-Toy-Volunteers-1-scaled-e1653511263781.jpg
END:VEVENT
BEGIN:VEVENT
DTSTART;TZID=America/Chicago:20220607T180000
DTEND;TZID=America/Chicago:20220607T200000
DTSTAMP:20260423T192514
CREATED:20220525T202308Z
LAST-MODIFIED:20220525T203229Z
UID:15838-1654624800-1654632000@achservices.org
SUMMARY:Safe Place Site Check @ Kendra Scott
DESCRIPTION:Help us help Safe Place\, we will assist Safe Place with traveling to designated Safe Place Sites to perform check. Kendra Scott is hosting us for a give back so come shop too and share with friends! \nKendra Scott 1612 S University Dr #401-c Fort Worth\, Texas 76107
URL:https://achservices.org/events/safe-place-site-check-kendra-scott-2022-6-7-2/
LOCATION:Kendra Scott\, 1612 S University Dr #401-c\, Fort Worth\, TX\, 76107\, United States
CATEGORIES:Volunteer Opportunities
ATTACH;FMTTYPE=image/jpeg:https://achservices.org/wp-content/uploads/2021/05/safe-space-Program-box.jpg
END:VEVENT
END:VCALENDAR