BEGIN:VCALENDAR
VERSION:2.0
PRODID:-//ACH Child and Family Services - ECPv6.15.17.1//NONSGML v1.0//EN
CALSCALE:GREGORIAN
METHOD:PUBLISH
X-ORIGINAL-URL:https://achservices.org
X-WR-CALDESC:Events for ACH Child and Family Services
REFRESH-INTERVAL;VALUE=DURATION:PT1H
X-Robots-Tag:noindex
X-PUBLISHED-TTL:PT1H
BEGIN:VTIMEZONE
TZID:America/Chicago
BEGIN:DAYLIGHT
TZOFFSETFROM:-0600
TZOFFSETTO:-0500
TZNAME:CDT
DTSTART:20230312T080000
END:DAYLIGHT
BEGIN:STANDARD
TZOFFSETFROM:-0500
TZOFFSETTO:-0600
TZNAME:CST
DTSTART:20231105T070000
END:STANDARD
BEGIN:DAYLIGHT
TZOFFSETFROM:-0600
TZOFFSETTO:-0500
TZNAME:CDT
DTSTART:20240310T080000
END:DAYLIGHT
BEGIN:STANDARD
TZOFFSETFROM:-0500
TZOFFSETTO:-0600
TZNAME:CST
DTSTART:20241103T070000
END:STANDARD
BEGIN:DAYLIGHT
TZOFFSETFROM:-0600
TZOFFSETTO:-0500
TZNAME:CDT
DTSTART:20250309T080000
END:DAYLIGHT
BEGIN:STANDARD
TZOFFSETFROM:-0500
TZOFFSETTO:-0600
TZNAME:CST
DTSTART:20251102T070000
END:STANDARD
BEGIN:DAYLIGHT
TZOFFSETFROM:-0600
TZOFFSETTO:-0500
TZNAME:CDT
DTSTART:20260308T080000
END:DAYLIGHT
BEGIN:STANDARD
TZOFFSETFROM:-0500
TZOFFSETTO:-0600
TZNAME:CST
DTSTART:20261101T070000
END:STANDARD
END:VTIMEZONE
BEGIN:VEVENT
DTSTART;VALUE=DATE:20251025
DTEND;VALUE=DATE:20251026
DTSTAMP:20260425T063945
CREATED:20251008T213035Z
LAST-MODIFIED:20251009T144456Z
UID:31376-1761350400-1761436799@achservices.org
SUMMARY:Hoot n' Holler
DESCRIPTION:Hoot ‘n Holler is an evening filled with authentic cowboy fare that’ll have your taste buds two-steppin’! \nKick up your heels with line dancing lessons\, and don’t miss your chance to snag some amazing items and experiences during our live auction and raffles. \nQuench your thirst with our signature cocktail while the swingin’ tunes of the Raised Right Men\, a fantastic local band\, brings you out to the dance floor. \nThis is more than a time to “hoot ‘n holler” — it’s a chance to support children and families in our community while having a blast! So slip on your boots and don your best western chic attire and spend an unforgettable night with us filled with fun\, laughter\, and giving back.
URL:https://achservices.org/events/hoot-n-holler/
LOCATION:River Ranch Stockyards\, 500 NE 23rd St\, Fort Worth\, TX\, 76164\, United States
ORGANIZER;CN="Jody Massey":MAILTO:Jody.Massey@ACHservices.org
END:VEVENT
BEGIN:VEVENT
DTSTART;TZID=America/Chicago:20251021T120000
DTEND;TZID=America/Chicago:20251021T130000
DTSTAMP:20260425T063945
CREATED:20251009T151016Z
LAST-MODIFIED:20251009T151214Z
UID:31404-1761048000-1761051600@achservices.org
SUMMARY:Foster Care and Adoption Meet and Greet (Virtual)
DESCRIPTION:Interested in learning more about foster care and/or adoption? Unsure of where to start? We can help! Join us for our next virtual meet and greet. We will present an overview of our organization’s requirements to become licensed as a kinship\, foster care and/or adoptive home. Our knowledgeable recruitment team will be available to answer any questions you have as you explore your options to help local foster children find their way to a better tomorrow. \n REGISTER TODAY!
URL:https://achservices.org/events/foster-care-and-adoption-meet-and-greet-virtual-2/
CATEGORIES:Foster Care and Adoption
ATTACH;FMTTYPE=image/png:https://achservices.org/wp-content/uploads/2021/05/Attend-a-Meet-and-Greet-e1655138116979.png
ORGANIZER;CN="Foster Care and Adoption":MAILTO:fosteradopt@achservices.org
END:VEVENT
BEGIN:VEVENT
DTSTART;TZID=America/Chicago:20251016T180000
DTEND;TZID=America/Chicago:20251016T190000
DTSTAMP:20260425T063945
CREATED:20251009T153412Z
LAST-MODIFIED:20251009T153412Z
UID:31416-1760637600-1760641200@achservices.org
SUMMARY:Foster Care and Adoption Meet and Greet
DESCRIPTION:Interested in learning more about foster care and/or adoption? Unsure of where to start? We can help! Join us for our next meet and greet. We will present an overview of our organization’s requirements to become licensed as a kinship\, foster care and/or adoptive home. Our knowledgeable recruitment team will be available to answer any questions you have as you explore your options to help local foster children find their way to a better tomorrow. \nREGISTER TODAY!
URL:https://achservices.org/events/foster-care-and-adoption-meet-and-greet-6/
LOCATION:ACH Wichita Campus\, 3712 Wichita Street\, Fort Worth\, TX\, 76119\, United States
CATEGORIES:Foster Care and Adoption
ATTACH;FMTTYPE=image/png:https://achservices.org/wp-content/uploads/2021/05/Attend-a-Meet-and-Greet-e1655138116979.png
ORGANIZER;CN="Foster Care and Adoption":MAILTO:fosteradopt@achservices.org
END:VEVENT
BEGIN:VEVENT
DTSTART;TZID=America/Chicago:20251218T180000
DTEND;TZID=America/Chicago:20251218T190000
DTSTAMP:20260425T063945
CREATED:20211230T164622Z
LAST-MODIFIED:20251009T152247Z
UID:13361-1766080800-1766084400@achservices.org
SUMMARY:Foster Care and Adoption Meet and Greet
DESCRIPTION:Interested in learning more about foster care and/or adoption? Unsure of where to start? We can help! Join us for our next meet and greet. We will present an overview of our organization’s requirements to become licensed as a kinship\, foster care and/or adoptive home. Our knowledgeable recruitment team will be available to answer any questions you have as you explore your options to help local foster children find their way to a better tomorrow. \nREGISTER TODAY!
URL:https://achservices.org/events/foster-care-and-adoption-meet-and-greet-2/
LOCATION:ACH Wichita Campus\, 3712 Wichita Street\, Fort Worth\, TX\, 76119\, United States
CATEGORIES:Foster Care and Adoption
ATTACH;FMTTYPE=image/png:https://achservices.org/wp-content/uploads/2021/05/Attend-a-Meet-and-Greet-e1655138116979.png
ORGANIZER;CN="Foster Care and Adoption":MAILTO:fosteradopt@achservices.org
END:VEVENT
BEGIN:VEVENT
DTSTART;TZID=America/Chicago:20251218T180000
DTEND;TZID=America/Chicago:20251218T190000
DTSTAMP:20260425T063945
CREATED:20211230T164622Z
LAST-MODIFIED:20251009T152247Z
UID:13361-1766080800-1766084400@achservices.org
SUMMARY:Foster Care and Adoption Meet and Greet
DESCRIPTION:Interested in learning more about foster care and/or adoption? Unsure of where to start? We can help! Join us for our next meet and greet. We will present an overview of our organization’s requirements to become licensed as a kinship\, foster care and/or adoptive home. Our knowledgeable recruitment team will be available to answer any questions you have as you explore your options to help local foster children find their way to a better tomorrow. \nREGISTER TODAY!
URL:https://achservices.org/events/foster-care-and-adoption-meet-and-greet-2/
LOCATION:ACH Wichita Campus\, 3712 Wichita Street\, Fort Worth\, TX\, 76119\, United States
CATEGORIES:Foster Care and Adoption
ATTACH;FMTTYPE=image/png:https://achservices.org/wp-content/uploads/2021/05/Attend-a-Meet-and-Greet-e1655138116979.png
ORGANIZER;CN="Foster Care and Adoption":MAILTO:fosteradopt@achservices.org
END:VEVENT
BEGIN:VEVENT
DTSTART;TZID=America/Chicago:20251218T180000
DTEND;TZID=America/Chicago:20251218T190000
DTSTAMP:20260425T063945
CREATED:20211230T164622Z
LAST-MODIFIED:20251009T152247Z
UID:13361-1766080800-1766084400@achservices.org
SUMMARY:Foster Care and Adoption Meet and Greet
DESCRIPTION:Interested in learning more about foster care and/or adoption? Unsure of where to start? We can help! Join us for our next meet and greet. We will present an overview of our organization’s requirements to become licensed as a kinship\, foster care and/or adoptive home. Our knowledgeable recruitment team will be available to answer any questions you have as you explore your options to help local foster children find their way to a better tomorrow. \nREGISTER TODAY!
URL:https://achservices.org/events/foster-care-and-adoption-meet-and-greet-2/
LOCATION:ACH Wichita Campus\, 3712 Wichita Street\, Fort Worth\, TX\, 76119\, United States
CATEGORIES:Foster Care and Adoption
ATTACH;FMTTYPE=image/png:https://achservices.org/wp-content/uploads/2021/05/Attend-a-Meet-and-Greet-e1655138116979.png
ORGANIZER;CN="Foster Care and Adoption":MAILTO:fosteradopt@achservices.org
END:VEVENT
BEGIN:VEVENT
DTSTART;TZID=America/Chicago:20251218T180000
DTEND;TZID=America/Chicago:20251218T190000
DTSTAMP:20260425T063945
CREATED:20211230T164622Z
LAST-MODIFIED:20251009T152247Z
UID:13361-1766080800-1766084400@achservices.org
SUMMARY:Foster Care and Adoption Meet and Greet
DESCRIPTION:Interested in learning more about foster care and/or adoption? Unsure of where to start? We can help! Join us for our next meet and greet. We will present an overview of our organization’s requirements to become licensed as a kinship\, foster care and/or adoptive home. Our knowledgeable recruitment team will be available to answer any questions you have as you explore your options to help local foster children find their way to a better tomorrow. \nREGISTER TODAY!
URL:https://achservices.org/events/foster-care-and-adoption-meet-and-greet-2/
LOCATION:ACH Wichita Campus\, 3712 Wichita Street\, Fort Worth\, TX\, 76119\, United States
CATEGORIES:Foster Care and Adoption
ATTACH;FMTTYPE=image/png:https://achservices.org/wp-content/uploads/2021/05/Attend-a-Meet-and-Greet-e1655138116979.png
ORGANIZER;CN="Foster Care and Adoption":MAILTO:fosteradopt@achservices.org
END:VEVENT
BEGIN:VEVENT
DTSTART;TZID=America/Chicago:20251218T180000
DTEND;TZID=America/Chicago:20251218T190000
DTSTAMP:20260425T063945
CREATED:20211230T164622Z
LAST-MODIFIED:20251009T152247Z
UID:13361-1766080800-1766084400@achservices.org
SUMMARY:Foster Care and Adoption Meet and Greet
DESCRIPTION:Interested in learning more about foster care and/or adoption? Unsure of where to start? We can help! Join us for our next meet and greet. We will present an overview of our organization’s requirements to become licensed as a kinship\, foster care and/or adoptive home. Our knowledgeable recruitment team will be available to answer any questions you have as you explore your options to help local foster children find their way to a better tomorrow. \nREGISTER TODAY!
URL:https://achservices.org/events/foster-care-and-adoption-meet-and-greet-2/
LOCATION:ACH Wichita Campus\, 3712 Wichita Street\, Fort Worth\, TX\, 76119\, United States
CATEGORIES:Foster Care and Adoption
ATTACH;FMTTYPE=image/png:https://achservices.org/wp-content/uploads/2021/05/Attend-a-Meet-and-Greet-e1655138116979.png
ORGANIZER;CN="Foster Care and Adoption":MAILTO:fosteradopt@achservices.org
END:VEVENT
BEGIN:VEVENT
DTSTART;TZID=America/Chicago:20251218T180000
DTEND;TZID=America/Chicago:20251218T190000
DTSTAMP:20260425T063945
CREATED:20211230T164622Z
LAST-MODIFIED:20251009T152247Z
UID:13361-1766080800-1766084400@achservices.org
SUMMARY:Foster Care and Adoption Meet and Greet
DESCRIPTION:Interested in learning more about foster care and/or adoption? Unsure of where to start? We can help! Join us for our next meet and greet. We will present an overview of our organization’s requirements to become licensed as a kinship\, foster care and/or adoptive home. Our knowledgeable recruitment team will be available to answer any questions you have as you explore your options to help local foster children find their way to a better tomorrow. \nREGISTER TODAY!
URL:https://achservices.org/events/foster-care-and-adoption-meet-and-greet-2/
LOCATION:ACH Wichita Campus\, 3712 Wichita Street\, Fort Worth\, TX\, 76119\, United States
CATEGORIES:Foster Care and Adoption
ATTACH;FMTTYPE=image/png:https://achservices.org/wp-content/uploads/2021/05/Attend-a-Meet-and-Greet-e1655138116979.png
ORGANIZER;CN="Foster Care and Adoption":MAILTO:fosteradopt@achservices.org
END:VEVENT
BEGIN:VEVENT
DTSTART;TZID=America/Chicago:20251218T180000
DTEND;TZID=America/Chicago:20251218T190000
DTSTAMP:20260425T063945
CREATED:20211230T164622Z
LAST-MODIFIED:20251009T152247Z
UID:13361-1766080800-1766084400@achservices.org
SUMMARY:Foster Care and Adoption Meet and Greet
DESCRIPTION:Interested in learning more about foster care and/or adoption? Unsure of where to start? We can help! Join us for our next meet and greet. We will present an overview of our organization’s requirements to become licensed as a kinship\, foster care and/or adoptive home. Our knowledgeable recruitment team will be available to answer any questions you have as you explore your options to help local foster children find their way to a better tomorrow. \nREGISTER TODAY!
URL:https://achservices.org/events/foster-care-and-adoption-meet-and-greet-2/
LOCATION:ACH Wichita Campus\, 3712 Wichita Street\, Fort Worth\, TX\, 76119\, United States
CATEGORIES:Foster Care and Adoption
ATTACH;FMTTYPE=image/png:https://achservices.org/wp-content/uploads/2021/05/Attend-a-Meet-and-Greet-e1655138116979.png
ORGANIZER;CN="Foster Care and Adoption":MAILTO:fosteradopt@achservices.org
END:VEVENT
BEGIN:VEVENT
DTSTART;TZID=America/Chicago:20251218T180000
DTEND;TZID=America/Chicago:20251218T190000
DTSTAMP:20260425T063945
CREATED:20211230T164622Z
LAST-MODIFIED:20251009T152247Z
UID:13361-1766080800-1766084400@achservices.org
SUMMARY:Foster Care and Adoption Meet and Greet
DESCRIPTION:Interested in learning more about foster care and/or adoption? Unsure of where to start? We can help! Join us for our next meet and greet. We will present an overview of our organization’s requirements to become licensed as a kinship\, foster care and/or adoptive home. Our knowledgeable recruitment team will be available to answer any questions you have as you explore your options to help local foster children find their way to a better tomorrow. \nREGISTER TODAY!
URL:https://achservices.org/events/foster-care-and-adoption-meet-and-greet-2/
LOCATION:ACH Wichita Campus\, 3712 Wichita Street\, Fort Worth\, TX\, 76119\, United States
CATEGORIES:Foster Care and Adoption
ATTACH;FMTTYPE=image/png:https://achservices.org/wp-content/uploads/2021/05/Attend-a-Meet-and-Greet-e1655138116979.png
ORGANIZER;CN="Foster Care and Adoption":MAILTO:fosteradopt@achservices.org
END:VEVENT
BEGIN:VEVENT
DTSTART;TZID=America/Chicago:20251218T180000
DTEND;TZID=America/Chicago:20251218T190000
DTSTAMP:20260425T063945
CREATED:20211230T164622Z
LAST-MODIFIED:20251009T152247Z
UID:13361-1766080800-1766084400@achservices.org
SUMMARY:Foster Care and Adoption Meet and Greet
DESCRIPTION:Interested in learning more about foster care and/or adoption? Unsure of where to start? We can help! Join us for our next meet and greet. We will present an overview of our organization’s requirements to become licensed as a kinship\, foster care and/or adoptive home. Our knowledgeable recruitment team will be available to answer any questions you have as you explore your options to help local foster children find their way to a better tomorrow. \nREGISTER TODAY!
URL:https://achservices.org/events/foster-care-and-adoption-meet-and-greet-2/
LOCATION:ACH Wichita Campus\, 3712 Wichita Street\, Fort Worth\, TX\, 76119\, United States
CATEGORIES:Foster Care and Adoption
ATTACH;FMTTYPE=image/png:https://achservices.org/wp-content/uploads/2021/05/Attend-a-Meet-and-Greet-e1655138116979.png
ORGANIZER;CN="Foster Care and Adoption":MAILTO:fosteradopt@achservices.org
END:VEVENT
BEGIN:VEVENT
DTSTART;TZID=America/Chicago:20250617T143000
DTEND;TZID=America/Chicago:20250617T160000
DTSTAMP:20260425T063945
CREATED:20250604T193000Z
LAST-MODIFIED:20250617T205529Z
UID:30096-1750170600-1750176000@achservices.org
SUMMARY:Cultivating Wellness
DESCRIPTION:This training is hosted by Mental Health Connection. \nCultivating Wellness June 4\, 2025 2:30-4pm ACH Child and Family Services Wichita Campus \nFor pricing and class availability\, please contact training.requests@achservices.org   \n\n\n\n\n\n\n\n\n\n 
URL:https://achservices.org/events/cultivating-wellness/
LOCATION:ACH Wichita Campus\, 3712 Wichita Street\, Fort Worth\, TX\, 76119\, United States
CATEGORIES:Mental Health Connection Trainings
ATTACH;FMTTYPE=image/png:https://achservices.org/wp-content/uploads/2025/06/Cultivating-Wellness.png
END:VEVENT
BEGIN:VEVENT
DTSTART;TZID=America/Chicago:20250617T100000
DTEND;TZID=America/Chicago:20250617T120000
DTSTAMP:20260425T063945
CREATED:20250611T202520Z
LAST-MODIFIED:20250617T202109Z
UID:29921-1750154400-1750161600@achservices.org
SUMMARY:Motivational Interviewing
DESCRIPTION:This training is hosted by Mental Health Connection.\n\nMotivational Interviewing\nJune 17\, 2025\n10am-12pm\nACH Child and Family Services\nWichita Campus\n\nFor pricing and class availability\, please contact training.requests@achservices.org
URL:https://achservices.org/events/mhc-motivational-interviewing-2/
LOCATION:ACH Wichita Campus\, 3712 Wichita Street\, Fort Worth\, TX\, 76119\, United States
CATEGORIES:Mental Health Connection Trainings
ATTACH;FMTTYPE=image/png:https://achservices.org/wp-content/uploads/2025/06/Motivational-Interviewing-scaled.png
END:VEVENT
BEGIN:VEVENT
DTSTART;TZID=America/Chicago:20250613T130000
DTEND;TZID=America/Chicago:20250613T160000
DTSTAMP:20260425T063945
CREATED:20250617T203221Z
LAST-MODIFIED:20250617T203221Z
UID:30113-1749819600-1749830400@achservices.org
SUMMARY:Working with LGBTQ+ Youth
DESCRIPTION:This event is hosted by Mental Health Connection. \nWorking with LGBTQ+ Youth\nACH Wichita Campus\n3712 Wichita Street\nFort Worth\, TX 76119\n1-4pm
URL:https://achservices.org/events/working-with-lgbtq-youth-2/
LOCATION:ACH Wichita Campus\, 3712 Wichita Street\, Fort Worth\, TX\, 76119\, United States
CATEGORIES:Mental Health Connection Trainings
ATTACH;FMTTYPE=image/jpeg:https://achservices.org/wp-content/uploads/2025/06/Working-with-lgbtq.jpg
END:VEVENT
BEGIN:VEVENT
DTSTART;TZID=America/Chicago:20250604T130000
DTEND;TZID=America/Chicago:20250604T143000
DTSTAMP:20260425T063945
CREATED:20250617T205422Z
LAST-MODIFIED:20250617T205422Z
UID:30115-1749042000-1749047400@achservices.org
SUMMARY:QPR Suicide Prevention
DESCRIPTION:This training is hosted by Mental Health Connection. \nQPR Suicide Prevention\nJune 17\, 2025\n1-2:30 p.m.\nACH Child and Family Services\nWichita Campus \nFor pricing and class availability\, please contact training.requests@achservices.org
URL:https://achservices.org/events/qpr-suicide-prevention/
LOCATION:ACH Wichita Campus\, 3712 Wichita Street\, Fort Worth\, TX\, 76119\, United States
CATEGORIES:Mental Health Connection Trainings
ATTACH;FMTTYPE=image/png:https://achservices.org/wp-content/uploads/2025/06/QPR-.png
END:VEVENT
BEGIN:VEVENT
DTSTART;TZID=America/Chicago:20250604T130000
DTEND;TZID=America/Chicago:20250604T143000
DTSTAMP:20260425T063945
CREATED:20250611T202952Z
LAST-MODIFIED:20250617T202118Z
UID:29923-1749042000-1749047400@achservices.org
SUMMARY:QPR Suicide Prevention
DESCRIPTION:This training is hosted by Mental Health Connection. \nQPR Suicide Prevention\nJune 4\, 2025\n1-2:30 p.m.\nACH Child and Family Services\nWichita Campus \nFor pricing and class availability\, please contact training.requests@achservices.org
URL:https://achservices.org/events/mhc-qpr-suicide-prevention/
LOCATION:ACH Wichita Campus\, 3712 Wichita Street\, Fort Worth\, TX\, 76119\, United States
CATEGORIES:Mental Health Connection Trainings
ATTACH;FMTTYPE=image/png:https://achservices.org/wp-content/uploads/2025/06/QPR-.png
END:VEVENT
BEGIN:VEVENT
DTSTART;TZID=America/Chicago:20250604T100000
DTEND;TZID=America/Chicago:20250604T120000
DTSTAMP:20260425T063945
CREATED:20250611T202222Z
LAST-MODIFIED:20250617T202127Z
UID:29916-1749031200-1749038400@achservices.org
SUMMARY:Motivational Interviewing
DESCRIPTION:This training is hosted by Mental Health Connection. \nMotivational Interviewing\nJune 4\, 2025\n10am-12pm\nACH Child and Family Services\nWichita Campus \nFor pricing and class availability\, please contact training.requests@achservices.org
URL:https://achservices.org/events/mhc-motivational-interviewing/
LOCATION:ACH Wichita Campus\, 3712 Wichita Street\, Fort Worth\, TX\, 76119\, United States
CATEGORIES:Mental Health Connection Trainings
ATTACH;FMTTYPE=image/png:https://achservices.org/wp-content/uploads/2025/06/Motivational-Interviewing-scaled.png
END:VEVENT
BEGIN:VEVENT
DTSTART;TZID=America/Chicago:20250604T023000
DTEND;TZID=America/Chicago:20250604T160000
DTSTAMP:20260425T063945
CREATED:20250617T193035Z
LAST-MODIFIED:20250617T202623Z
UID:30108-1749004200-1749052800@achservices.org
SUMMARY:Cultivating Wellness
DESCRIPTION:This training is hosted by Mental Health Connection. \nCultivating Wellness June 4\, 2025 2:30-4pm ACH Child and Family Services Wichita Campus \nFor pricing and class availability\, please contact training.requests@achservices.org   \n\n\n\n\n\n\n\n\n\n 
URL:https://achservices.org/events/cultivating-wellness-2/
LOCATION:ACH Wichita Campus\, 3712 Wichita Street\, Fort Worth\, TX\, 76119\, United States
CATEGORIES:Mental Health Connection Trainings
ATTACH;FMTTYPE=image/png:https://achservices.org/wp-content/uploads/2025/06/Cultivating-Wellness.png
END:VEVENT
BEGIN:VEVENT
DTSTART;TZID=America/Chicago:20250602T130000
DTEND;TZID=America/Chicago:20250602T160000
DTSTAMP:20260425T063945
CREATED:20250617T203039Z
LAST-MODIFIED:20250617T203039Z
UID:30110-1748869200-1748880000@achservices.org
SUMMARY:Working with LGBTQ+ Youth
DESCRIPTION:This event is hosted by Mental Health Connection. \nWorking with LGBTQ+ Youth\nACH Wichita Campus\n3712 Wichita Street\nFort Worth\, TX 76119\n1-4pm
URL:https://achservices.org/events/working-with-lgbtq-youth/
LOCATION:ACH Wichita Campus\, 3712 Wichita Street\, Fort Worth\, TX\, 76119\, United States
CATEGORIES:Mental Health Connection Trainings
ATTACH;FMTTYPE=image/jpeg:https://achservices.org/wp-content/uploads/2025/06/Working-with-lgbtq.jpg
END:VEVENT
BEGIN:VEVENT
DTSTART;TZID=America/Chicago:20250514T180000
DTEND;TZID=America/Chicago:20250514T200000
DTSTAMP:20260425T063945
CREATED:20250416T193733Z
LAST-MODIFIED:20250528T145105Z
UID:29289-1747245600-1747252800@achservices.org
SUMMARY:Bingo Night at Wild Acre Restaurant and Beer Garden
DESCRIPTION:Join ACH for a fun night of bingo at Wild Acre Restaurant and Beer Garden! This event is open to the public and staff. $5 per card or $20 for five cards. Bring family\, friends and neighbors\, win prizes and support our mission!
URL:https://achservices.org/events/bingo-night-at-wild-acre-restaurant-and-beer-garden-2/
LOCATION:Wild Acre Brewing\, 1734 E El Paso Street\, Suite 190\, Fort Worth\, TX\, 76102
ORGANIZER;CN="Jody Massey":MAILTO:Jody.Massey@ACHservices.org
END:VEVENT
BEGIN:VEVENT
DTSTART;VALUE=DATE:20241211
DTEND;VALUE=DATE:20241212
DTSTAMP:20260425T063945
CREATED:20240927T191014Z
LAST-MODIFIED:20240927T191014Z
UID:26968-1733875200-1733961599@achservices.org
SUMMARY:ACH Holiday Boutique
DESCRIPTION:ACH is excited to host it’s annual Holiday Boutique! This is the perfect opportunity to get in the holiday spirit and shop for everyone on your Christmas list. \nMore info to come! \nWe are currently looking for vendors! Please reach out to Julie.Brown@ACHservices.org. \n 
URL:https://achservices.org/events/ach-holiday-boutique/
LOCATION:ACH Wichita Campus\, 3712 Wichita Street\, Fort Worth\, TX\, 76119\, United States
END:VEVENT
BEGIN:VEVENT
DTSTART;TZID=America/Chicago:20241205T180000
DTEND;TZID=America/Chicago:20241205T193000
DTSTAMP:20260425T063945
CREATED:20240909T162226Z
LAST-MODIFIED:20240909T162226Z
UID:26689-1733421600-1733427000@achservices.org
SUMMARY:Women's Auxiliary: Christmas at ACH
DESCRIPTION:Celebrate Christmas at ACH with children in our residential programs! Hosted by Women’s Auxiliary. \nFor gift ideas\, check out our Amazon Wish list\, which features gifts for teens\, one of our common age groups.
URL:https://achservices.org/events/womens-auxiliary-christmas-at-ach/
LOCATION:ACH Wichita Campus\, 3712 Wichita Street\, Fort Worth\, TX\, 76119\, United States
ATTACH;FMTTYPE=image/png:https://achservices.org/wp-content/uploads/2022/10/Christmas-boy-cut-out.png
ORGANIZER;CN="Women's Auxiliary":MAILTO:Sarah.Bramlett@ACHservices.org
END:VEVENT
BEGIN:VEVENT
DTSTART;TZID=America/Chicago:20241030T100000
DTEND;TZID=America/Chicago:20241030T110000
DTSTAMP:20260425T063945
CREATED:20240102T203423Z
LAST-MODIFIED:20240102T203423Z
UID:23341-1730282400-1730286000@achservices.org
SUMMARY:Campus Tour
DESCRIPTION:Join us for a tour and enjoy a behind the scenes look at ACH Child and Family Services. Tours start at 10am\, by appointment only.
URL:https://achservices.org/events/campus-tour-7/
LOCATION:ACH Wichita Campus\, 3712 Wichita Street\, Fort Worth\, TX\, 76119\, United States
ATTACH;FMTTYPE=image/jpeg:https://achservices.org/wp-content/uploads/2023/03/Copy-of-ACH-Campus-Tours-e1678389656914.jpg
ORGANIZER;CN="Sarah Bramlett":MAILTO:Sarah.Bramlett@achservices.org
END:VEVENT
BEGIN:VEVENT
DTSTART;TZID=America/Chicago:20241023T180000
DTEND;TZID=America/Chicago:20241023T193000
DTSTAMP:20260425T063945
CREATED:20240909T160453Z
LAST-MODIFIED:20240909T160453Z
UID:26685-1729706400-1729711800@achservices.org
SUMMARY:Women's Auxiliary: {No} Sew Much Fun!
DESCRIPTION:Come make no-sew\, tie blankets for kids in our residential programs! Hosted by Women’s Auxiliary.
URL:https://achservices.org/events/womens-auxiliary-no-sew-much-fun/
LOCATION:ACH Wichita Campus\, 3712 Wichita Street\, Fort Worth\, TX\, 76119\, United States
CATEGORIES:Volunteer Opportunities
ORGANIZER;CN="Women's Auxiliary":MAILTO:Sarah.Bramlett@ACHservices.org
END:VEVENT
BEGIN:VEVENT
DTSTART;TZID=America/Chicago:20241015T160000
DTEND;TZID=America/Chicago:20241015T170000
DTSTAMP:20260425T063945
CREATED:20240926T181133Z
LAST-MODIFIED:20240926T181133Z
UID:26914-1729008000-1729011600@achservices.org
SUMMARY:Complimentary Estate Planning Webinar
DESCRIPTION:Register to learn how to plan your estate to maximize your values and minimize or eliminate taxes. Don’t be one of the six in 10 Americans who doesn’t have a will. \nJoin Vince McElligott\, Senior Philanthropic Advisor to ACH Child and Family Services\, and learn about the foundation of creating a plan that reflects your values and goals. \nRegister here>>https://achservices.org/webinar/
URL:https://achservices.org/events/complimentary-estate-planning-webinar/
LOCATION:Zoom
ORGANIZER;CN="Dixie Mullins":MAILTO:Dixie.Mullins@ACHservices.org
END:VEVENT
BEGIN:VEVENT
DTSTART;TZID=America/Chicago:20241009T180000
DTEND;TZID=America/Chicago:20241009T200000
DTSTAMP:20260425T063945
CREATED:20240909T163356Z
LAST-MODIFIED:20240909T163356Z
UID:26696-1728496800-1728504000@achservices.org
SUMMARY:Bingo Night! at Wild Acre Restaurant and Beer Garden
DESCRIPTION:All are invited to Wild Acre Restaurant and Beer Garden on Wednesday\, October 9 from 6 – 8pm for a FUN-draising night of bingo! \nBingo is $5 per card or $20 for five cards. Cash only. \nAll proceeds benefit ACH programs. \nQuestions? Contact Sarah Bramlett at Sarah.Bramlett@ACHservices.org. \n \n  \n 
URL:https://achservices.org/events/bingo-night-at-wild-acre-restaurant-and-beer-garden/
LOCATION:Wild Acre Brewing\, 1734 E El Paso Street\, Suite 190\, Fort Worth\, TX\, 76102
CATEGORIES:Fundraiser
ORGANIZER;CN="Sarah Bramlett":MAILTO:Sarah.Bramlett@achservices.org
END:VEVENT
BEGIN:VEVENT
DTSTART;TZID=America/Chicago:20240926T100000
DTEND;TZID=America/Chicago:20240926T110000
DTSTAMP:20260425T063945
CREATED:20240102T203258Z
LAST-MODIFIED:20240102T203258Z
UID:23339-1727344800-1727348400@achservices.org
SUMMARY:Campus Tour
DESCRIPTION:Join us for a tour and enjoy a behind the scenes look at ACH Child and Family Services. Tours start at 10am\, by appointment only.
URL:https://achservices.org/events/campus-tour-6/
LOCATION:ACH Wichita Campus\, 3712 Wichita Street\, Fort Worth\, TX\, 76119\, United States
ATTACH;FMTTYPE=image/jpeg:https://achservices.org/wp-content/uploads/2023/03/Copy-of-ACH-Campus-Tours-e1678389656914.jpg
ORGANIZER;CN="Sarah Bramlett":MAILTO:Sarah.Bramlett@achservices.org
END:VEVENT
BEGIN:VEVENT
DTSTART;TZID=America/Chicago:20240516T100000
DTEND;TZID=America/Chicago:20240516T110000
DTSTAMP:20260425T063945
CREATED:20240102T203208Z
LAST-MODIFIED:20240102T203208Z
UID:23337-1715853600-1715857200@achservices.org
SUMMARY:Campus Tour
DESCRIPTION:Join us for a tour and enjoy a behind the scenes look at ACH Child and Family Services. Tours start at 10am\, by appointment only.
URL:https://achservices.org/events/campus-tour-5/
LOCATION:ACH Wichita Campus\, 3712 Wichita Street\, Fort Worth\, TX\, 76119\, United States
ATTACH;FMTTYPE=image/jpeg:https://achservices.org/wp-content/uploads/2023/03/Copy-of-ACH-Campus-Tours-e1678389656914.jpg
ORGANIZER;CN="Sarah Bramlett":MAILTO:Sarah.Bramlett@achservices.org
END:VEVENT
BEGIN:VEVENT
DTSTART;TZID=America/Chicago:20240320T100000
DTEND;TZID=America/Chicago:20240320T110000
DTSTAMP:20260425T063945
CREATED:20240102T203105Z
LAST-MODIFIED:20240102T203105Z
UID:23335-1710928800-1710932400@achservices.org
SUMMARY:Campus Tour
DESCRIPTION:Join us for a tour and enjoy a behind the scenes look at ACH Child and Family Services. Tours start at 10am\, by appointment only.
URL:https://achservices.org/events/campus-tour-4/
LOCATION:ACH Wichita Campus\, 3712 Wichita Street\, Fort Worth\, TX\, 76119\, United States
ATTACH;FMTTYPE=image/jpeg:https://achservices.org/wp-content/uploads/2023/03/Copy-of-ACH-Campus-Tours-e1678389656914.jpg
ORGANIZER;CN="Sarah Bramlett":MAILTO:Sarah.Bramlett@achservices.org
END:VEVENT
END:VCALENDAR