BEGIN:VCALENDAR
VERSION:2.0
PRODID:-//ACH Child and Family Services - ECPv6.15.17.1//NONSGML v1.0//EN
CALSCALE:GREGORIAN
METHOD:PUBLISH
X-WR-CALNAME:ACH Child and Family Services
X-ORIGINAL-URL:https://achservices.org
X-WR-CALDESC:Events for ACH Child and Family Services
REFRESH-INTERVAL;VALUE=DURATION:PT1H
X-Robots-Tag:noindex
X-PUBLISHED-TTL:PT1H
BEGIN:VTIMEZONE
TZID:America/Chicago
BEGIN:DAYLIGHT
TZOFFSETFROM:-0600
TZOFFSETTO:-0500
TZNAME:CDT
DTSTART:20250309T080000
END:DAYLIGHT
BEGIN:STANDARD
TZOFFSETFROM:-0500
TZOFFSETTO:-0600
TZNAME:CST
DTSTART:20251102T070000
END:STANDARD
BEGIN:DAYLIGHT
TZOFFSETFROM:-0600
TZOFFSETTO:-0500
TZNAME:CDT
DTSTART:20260308T080000
END:DAYLIGHT
BEGIN:STANDARD
TZOFFSETFROM:-0500
TZOFFSETTO:-0600
TZNAME:CST
DTSTART:20261101T070000
END:STANDARD
BEGIN:DAYLIGHT
TZOFFSETFROM:-0600
TZOFFSETTO:-0500
TZNAME:CDT
DTSTART:20270314T080000
END:DAYLIGHT
BEGIN:STANDARD
TZOFFSETFROM:-0500
TZOFFSETTO:-0600
TZNAME:CST
DTSTART:20271107T070000
END:STANDARD
END:VTIMEZONE
BEGIN:VEVENT
DTSTART;TZID=America/Chicago:20260203T180000
DTEND;TZID=America/Chicago:20260203T190000
DTSTAMP:20260423T095420
CREATED:20251105T170412Z
LAST-MODIFIED:20251105T170412Z
UID:31739-1770141600-1770145200@achservices.org
SUMMARY:Foster Care and Adoption Meet and Greet
DESCRIPTION:Interested in learning more about foster care and/or adoption? Unsure of where to start? We can help! Join us for our next meet and greet. We will present an overview of our organization’s requirements to become licensed as a kinship\, foster care and/or adoptive home. Our knowledgeable recruitment team will be available to answer any questions you have as you explore your options to help local foster children find their way to a better tomorrow. \nREGISTER TODAY!
URL:https://achservices.org/events/foster-care-and-adoption-meet-and-greet-9/
LOCATION:ACH Wichita Campus\, 3712 Wichita Street\, Fort Worth\, TX\, 76119\, United States
CATEGORIES:Foster Care and Adoption
ATTACH;FMTTYPE=image/png:https://achservices.org/wp-content/uploads/2021/05/Attend-a-Meet-and-Greet-e1655138116979.png
ORGANIZER;CN="Foster Care and Adoption":MAILTO:fosteradopt@achservices.org
END:VEVENT
BEGIN:VEVENT
DTSTART;TZID=America/Chicago:20260210T120000
DTEND;TZID=America/Chicago:20260210T130000
DTSTAMP:20260423T095420
CREATED:20251105T170535Z
LAST-MODIFIED:20260116T191559Z
UID:31741-1770724800-1770728400@achservices.org
SUMMARY:Foster Care and Adoption Meet and Greet (Virtual)
DESCRIPTION:Interested in learning more about foster care and/or adoption? Unsure of where to start? We can help! Join us for our next virtual meet and greet. We will present an overview of our organization’s requirements to become licensed as a kinship\, foster care and/or adoptive home. Our knowledgeable recruitment team will be available to answer any questions you have as you explore your options to help local foster children find their way to a better tomorrow. \n REGISTER TODAY!
URL:https://achservices.org/events/foster-care-and-adoption-meet-and-greet-virtual-5/
LOCATION:ACH Wichita Campus\, 3712 Wichita Street\, Fort Worth\, TX\, 76119\, United States
CATEGORIES:Foster Care and Adoption
ATTACH;FMTTYPE=image/png:https://achservices.org/wp-content/uploads/2021/05/Attend-a-Meet-and-Greet-e1655138116979.png
ORGANIZER;CN="Foster Care and Adoption":MAILTO:fosteradopt@achservices.org
END:VEVENT
BEGIN:VEVENT
DTSTART;TZID=America/Chicago:20260219T180000
DTEND;TZID=America/Chicago:20260219T190000
DTSTAMP:20260423T095420
CREATED:20251105T170636Z
LAST-MODIFIED:20251105T170636Z
UID:31743-1771524000-1771527600@achservices.org
SUMMARY:Foster Care and Adoption Meet and Greet
DESCRIPTION:Interested in learning more about foster care and/or adoption? Unsure of where to start? We can help! Join us for our next meet and greet. We will present an overview of our organization’s requirements to become licensed as a kinship\, foster care and/or adoptive home. Our knowledgeable recruitment team will be available to answer any questions you have as you explore your options to help local foster children find their way to a better tomorrow. \nREGISTER TODAY!
URL:https://achservices.org/events/foster-care-and-adoption-meet-and-greet-10/
LOCATION:ACH Wichita Campus\, 3712 Wichita Street\, Fort Worth\, TX\, 76119\, United States
CATEGORIES:Foster Care and Adoption
ATTACH;FMTTYPE=image/png:https://achservices.org/wp-content/uploads/2021/05/Attend-a-Meet-and-Greet-e1655138116979.png
ORGANIZER;CN="Foster Care and Adoption":MAILTO:fosteradopt@achservices.org
END:VEVENT
BEGIN:VEVENT
DTSTART;TZID=America/Chicago:20260224T173000
DTEND;TZID=America/Chicago:20260224T183000
DTSTAMP:20260423T095420
CREATED:20251208T175201Z
LAST-MODIFIED:20260113T211413Z
UID:32133-1771954200-1771957800@achservices.org
SUMMARY:Anger is Real Accelerated Intake
DESCRIPTION:Real Help for Real Life presents: Anger is Real Accelerated (Intake)\nThis class helps youth understand their anger by learning about its negative effects in their lives and with their relationships. Youth will learn how to express their emotions in a healthy way. \n\n\n                \n                        \n                            RHRL Skill Builder Registration\n                             \n							"*" indicates required fields \n                        \n        \n        	Step 1 of 2\n        	 \n            \n                50%\n            \n                        \n					If offered\, what class/day time works best for your youth to attend?Camp Thrive: Intake: June 24\, 2026 at 5:30 p.m. | Camps: July 8 - 10\, 2026 from 9 a.m. - 12 p.m.Camp Rise: Intake: July 28\, 2026 at 5:30 p.m. | Camps: August 5 - 7\, 2026 from 9 a.m. - 12 p.m.Risk is Real Accelerated Intake: July 25\, 2026 at 9 a.m. | Groups: August 1\, 2026 from 9 a.m. - 12 p.m.Resource NavigationYouth InformationYouth Name*\n                            \n                            \n                                                    \n                                                    First\n                                                \n                            \n                            \n                                                    \n                                                    Last\n                                                \n                            \n                        Youth Date of Birth*\n                            \n                            MM slash DD slash YYYY\n                        \n                        \n                    \n                    \n                          \n                    \n                \n                \n                    \n                        Parent/Guardian InformationParent/Guardian Name*\n                            \n                            \n                                                    \n                                                    First\n                                                \n                            \n                            \n                                                    \n                                                    Last\n                                                \n                            \n                        Email Address*\n                            \n                        Phone*CAPTCHA
URL:https://achservices.org/events/anger-is-real-accelerated-intake/
LOCATION:ACH Wichita Campus\, 3712 Wichita Street\, Fort Worth\, TX\, 76119\, United States
END:VEVENT
END:VCALENDAR