BEGIN:VCALENDAR
VERSION:2.0
PRODID:-//ACH Child and Family Services - ECPv6.15.17.1//NONSGML v1.0//EN
CALSCALE:GREGORIAN
METHOD:PUBLISH
X-WR-CALNAME:ACH Child and Family Services
X-ORIGINAL-URL:https://achservices.org
X-WR-CALDESC:Events for ACH Child and Family Services
REFRESH-INTERVAL;VALUE=DURATION:PT1H
X-Robots-Tag:noindex
X-PUBLISHED-TTL:PT1H
BEGIN:VTIMEZONE
TZID:America/Chicago
BEGIN:DAYLIGHT
TZOFFSETFROM:-0600
TZOFFSETTO:-0500
TZNAME:CDT
DTSTART:20250309T080000
END:DAYLIGHT
BEGIN:STANDARD
TZOFFSETFROM:-0500
TZOFFSETTO:-0600
TZNAME:CST
DTSTART:20251102T070000
END:STANDARD
BEGIN:DAYLIGHT
TZOFFSETFROM:-0600
TZOFFSETTO:-0500
TZNAME:CDT
DTSTART:20260308T080000
END:DAYLIGHT
BEGIN:STANDARD
TZOFFSETFROM:-0500
TZOFFSETTO:-0600
TZNAME:CST
DTSTART:20261101T070000
END:STANDARD
BEGIN:DAYLIGHT
TZOFFSETFROM:-0600
TZOFFSETTO:-0500
TZNAME:CDT
DTSTART:20270314T080000
END:DAYLIGHT
BEGIN:STANDARD
TZOFFSETFROM:-0500
TZOFFSETTO:-0600
TZNAME:CST
DTSTART:20271107T070000
END:STANDARD
END:VTIMEZONE
BEGIN:VEVENT
DTSTART;TZID=America/Chicago:20260601T090000
DTEND;TZID=America/Chicago:20260601T123000
DTSTAMP:20260425T081837
CREATED:20251208T203248Z
LAST-MODIFIED:20251208T203521Z
UID:32157-1780304400-1780317000@achservices.org
SUMMARY:Risk is Real Johnson Accelerated Group Event
DESCRIPTION:Real Help for Real Life presents: Risk is Real Johnson Accelerated (Group Event)\nThis class is for youth who may be first offenders. This class will help youth understand the repercussions of life choices and provide them the skills necessary to avoid behavior that may put future success at risk. \nFamilies must complete the intake before attending group events
URL:https://achservices.org/events/risk-is-real-johnson-accelerated-group-event/
LOCATION:ACH Wichita Campus\, 3712 Wichita Street\, Fort Worth\, TX\, 76119\, United States
CATEGORIES:RHRL Skill Builder
END:VEVENT
BEGIN:VEVENT
DTSTART;TZID=America/Chicago:20260602T180000
DTEND;TZID=America/Chicago:20260602T190000
DTSTAMP:20260425T081837
CREATED:20251105T195940Z
LAST-MODIFIED:20251105T195940Z
UID:31765-1780423200-1780426800@achservices.org
SUMMARY:Foster Care and Adoption Meet and Greet
DESCRIPTION:Interested in learning more about foster care and/or adoption? Unsure of where to start? We can help! Join us for our next meet and greet. We will present an overview of our organization’s requirements to become licensed as a kinship\, foster care and/or adoptive home. Our knowledgeable recruitment team will be available to answer any questions you have as you explore your options to help local foster children find their way to a better tomorrow. \nREGISTER TODAY!
URL:https://achservices.org/events/foster-care-and-adoption-meet-and-greet-18/
LOCATION:ACH Wichita Campus\, 3712 Wichita Street\, Fort Worth\, TX\, 76119\, United States
CATEGORIES:Foster Care and Adoption
ATTACH;FMTTYPE=image/png:https://achservices.org/wp-content/uploads/2021/05/Attend-a-Meet-and-Greet-e1655138116979.png
ORGANIZER;CN="Foster Care and Adoption":MAILTO:fosteradopt@achservices.org
END:VEVENT
BEGIN:VEVENT
DTSTART;TZID=America/Chicago:20260609T120000
DTEND;TZID=America/Chicago:20260609T130000
DTSTAMP:20260425T081837
CREATED:20251105T195717Z
LAST-MODIFIED:20251105T195717Z
UID:31767-1781006400-1781010000@achservices.org
SUMMARY:Foster Care and Adoption Meet and Greet (Virtual)
DESCRIPTION:Interested in learning more about foster care and/or adoption? Unsure of where to start? We can help! Join us for our next virtual meet and greet. We will present an overview of our organization’s requirements to become licensed as a kinship\, foster care and/or adoptive home. Our knowledgeable recruitment team will be available to answer any questions you have as you explore your options to help local foster children find their way to a better tomorrow. \n REGISTER TODAY!
URL:https://achservices.org/events/foster-care-and-adoption-meet-and-greet-virtual-9/
LOCATION:TX
CATEGORIES:Foster Care and Adoption
ATTACH;FMTTYPE=image/png:https://achservices.org/wp-content/uploads/2021/05/Attend-a-Meet-and-Greet-e1655138116979.png
ORGANIZER;CN="Foster Care and Adoption":MAILTO:fosteradopt@achservices.org
END:VEVENT
BEGIN:VEVENT
DTSTART;TZID=America/Chicago:20260618T180000
DTEND;TZID=America/Chicago:20260618T190000
DTSTAMP:20260425T081837
CREATED:20251105T200017Z
LAST-MODIFIED:20251105T200017Z
UID:31766-1781805600-1781809200@achservices.org
SUMMARY:Foster Care and Adoption Meet and Greet
DESCRIPTION:Interested in learning more about foster care and/or adoption? Unsure of where to start? We can help! Join us for our next meet and greet. We will present an overview of our organization’s requirements to become licensed as a kinship\, foster care and/or adoptive home. Our knowledgeable recruitment team will be available to answer any questions you have as you explore your options to help local foster children find their way to a better tomorrow. \nREGISTER TODAY!
URL:https://achservices.org/events/foster-care-and-adoption-meet-and-greet-19/
LOCATION:ACH Wichita Campus\, 3712 Wichita Street\, Fort Worth\, TX\, 76119\, United States
CATEGORIES:Foster Care and Adoption
ATTACH;FMTTYPE=image/png:https://achservices.org/wp-content/uploads/2021/05/Attend-a-Meet-and-Greet-e1655138116979.png
ORGANIZER;CN="Foster Care and Adoption":MAILTO:fosteradopt@achservices.org
END:VEVENT
END:VCALENDAR